BEGIN:VCALENDAR
VERSION:2.0
PRODID:SchoolNow
CALSCALE:GREGORIAN
BEGIN:VEVENT
UID:1a37aec0-7848-11f0-b2f5-0a58a9feac02
DTSTAMP:20260106T171016Z
SUMMARY:CDD Board Meeting - Jan. 2026
LOCATION:Hilton Garden Inn Tampa Suncoast Parkway 2155 Northpointe Parkway 
 Lutz\, FL 33558
URL;VALUE=URI:https://www.copperspringcdd.org/calendar/8504199/cdd-board-me
 eting-jan-2026
DTSTART:20260113T160000Z
DTEND:20260113T170000Z
ATTACH;FILENAME=2026-01-13 - Copperspring CDD - Revised Agenda.pdf;FMTTYPE=
 application/pdf:https://campussuite-storage.s3.amazonaws.com/prod/1558869/
 4d6215c8-ea97-11e9-979c-0a20d2c7fac4/3057149/8f348f34-eb22-11f0-a2f7-0a58a
 9feac02/file/2026-01-13 - Copperspring CDD - Revised Agenda.pdf
END:VEVENT
END:VCALENDAR
