BEGIN:VCALENDAR
VERSION:2.0
PRODID:SchoolNow
CALSCALE:GREGORIAN
BEGIN:VEVENT
UID:1f24d3d4-3b89-11ee-a296-0a7214837f19
DTSTAMP:20230815T163101Z
SUMMARY:CDD Board Meeting - Mar. 2024
LOCATION:Residence Inn by Marriott Tampa located at 2101 Northpointe Parkwa
 y\, Lutz\, Florida 33588
URL;VALUE=URI:https://www.copperspringcdd.org/calendar/4575876/cdd-board-me
 eting-mar-2024
DTSTART:20240312T140000Z
DTEND:20240312T150000Z
END:VEVENT
END:VCALENDAR
